BEGIN:VCALENDAR
VERSION:2.0
PRODID:-//MTAC San Mateo - ECPv6.15.15//NONSGML v1.0//EN
CALSCALE:GREGORIAN
METHOD:PUBLISH
X-WR-CALNAME:MTAC San Mateo
X-ORIGINAL-URL:https://mtacsanmateo.org
X-WR-CALDESC:Events for MTAC San Mateo
REFRESH-INTERVAL;VALUE=DURATION:PT1H
X-Robots-Tag:noindex
X-PUBLISHED-TTL:PT1H
BEGIN:VTIMEZONE
TZID:America/Los_Angeles
BEGIN:DAYLIGHT
TZOFFSETFROM:-0800
TZOFFSETTO:-0700
TZNAME:PDT
DTSTART:20210314T100000
END:DAYLIGHT
BEGIN:STANDARD
TZOFFSETFROM:-0700
TZOFFSETTO:-0800
TZNAME:PST
DTSTART:20211107T090000
END:STANDARD
BEGIN:DAYLIGHT
TZOFFSETFROM:-0800
TZOFFSETTO:-0700
TZNAME:PDT
DTSTART:20220313T100000
END:DAYLIGHT
BEGIN:STANDARD
TZOFFSETFROM:-0700
TZOFFSETTO:-0800
TZNAME:PST
DTSTART:20221106T090000
END:STANDARD
BEGIN:DAYLIGHT
TZOFFSETFROM:-0800
TZOFFSETTO:-0700
TZNAME:PDT
DTSTART:20230312T100000
END:DAYLIGHT
BEGIN:STANDARD
TZOFFSETFROM:-0700
TZOFFSETTO:-0800
TZNAME:PST
DTSTART:20231105T090000
END:STANDARD
BEGIN:DAYLIGHT
TZOFFSETFROM:-0800
TZOFFSETTO:-0700
TZNAME:PDT
DTSTART:20240310T100000
END:DAYLIGHT
BEGIN:STANDARD
TZOFFSETFROM:-0700
TZOFFSETTO:-0800
TZNAME:PST
DTSTART:20241103T090000
END:STANDARD
BEGIN:DAYLIGHT
TZOFFSETFROM:-0800
TZOFFSETTO:-0700
TZNAME:PDT
DTSTART:20250309T100000
END:DAYLIGHT
BEGIN:STANDARD
TZOFFSETFROM:-0700
TZOFFSETTO:-0800
TZNAME:PST
DTSTART:20251102T090000
END:STANDARD
END:VTIMEZONE
BEGIN:VEVENT
DTSTART;TZID=America/Los_Angeles:20240211T130000
DTEND;TZID=America/Los_Angeles:20240211T160000
DTSTAMP:20260419T224830
CREATED:20231208T204441Z
LAST-MODIFIED:20231210T015353Z
UID:1248-1707656400-1707667200@mtacsanmateo.org
SUMMARY:Branch Recital
DESCRIPTION:
URL:https://mtacsanmateo.org/event/branch-recital/
LOCATION:Gradus Ad Parnassum Music Academy
END:VEVENT
BEGIN:VEVENT
DTSTART;TZID=America/Los_Angeles:20240107T163000
DTEND;TZID=America/Los_Angeles:20240107T190000
DTSTAMP:20260419T224830
CREATED:20231208T195744Z
LAST-MODIFIED:20231210T014909Z
UID:1245-1704645000-1704654000@mtacsanmateo.org
SUMMARY:YAG Recital Featuring Karina Tseng
DESCRIPTION:Program \nBrahms: Ballades\, Op. 10 (23″)\nBartok: Sonata\, Sz. 80 (13”)\n[INTERMISSION]\nHaydn: Sonata in C Major\, HOB. XVI: 48 (10”)\nSchumann: Sonata No. 3 in F minor\, Op. 14 (26”)
URL:https://mtacsanmateo.org/event/yag-recital-featuring-karina-tseng/
LOCATION:Gradus Ad Parnassum Music Academy
END:VEVENT
BEGIN:VEVENT
DTSTART;TZID=America/Los_Angeles:20231208T100000
DTEND;TZID=America/Los_Angeles:20231208T120000
DTSTAMP:20260419T224830
CREATED:20231201T235356Z
LAST-MODIFIED:20231201T235356Z
UID:1242-1702029600-1702036800@mtacsanmateo.org
SUMMARY:Branch Holiday Play-Along
DESCRIPTION:Dear Teachers\, \nYou are invited to attend a MTAC San Mateo Branch Holiday Party and Play-Along on Friday\, December 8 from 10:00 am-12:00. We will gather\, enjoy holiday treats\, and most importantly\, share a piece of music! The music selection can be a holiday favorite\, duet\, ensemble\, or any solo work that brings you joy. Also\, there is no pressure to perform. Just come out and say hello.\n \nPlease RSVP here so that I know how many people to expect and how many treats to bring. \n \nEvent Address: Gradus Ad Parnassum Music Academy 1527 S B Street San Mateo \nEvent Date and Time: Friday\, December 8 from 10:00-12:00
URL:https://mtacsanmateo.org/event/branch-holiday-play-along/
LOCATION:Gradus Ad Parnassum Music Academy
END:VEVENT
BEGIN:VEVENT
DTSTART;TZID=America/Los_Angeles:20221113T160000
DTEND;TZID=America/Los_Angeles:20221113T170000
DTSTAMP:20260419T224830
CREATED:20221001T064147Z
LAST-MODIFIED:20221001T064147Z
UID:1086-1668355200-1668358800@mtacsanmateo.org
SUMMARY:Branch Recital #2 - November 2022
DESCRIPTION:
URL:https://mtacsanmateo.org/event/branch-recital-2-november-2022/
LOCATION:Gradus Ad Parnassum Music Academy
END:VEVENT
BEGIN:VEVENT
DTSTART;TZID=America/Los_Angeles:20221113T150000
DTEND;TZID=America/Los_Angeles:20221113T160000
DTSTAMP:20260419T224830
CREATED:20221001T063802Z
LAST-MODIFIED:20221001T064045Z
UID:1081-1668351600-1668355200@mtacsanmateo.org
SUMMARY:Branch Recital #1 - November 2022
DESCRIPTION:
URL:https://mtacsanmateo.org/event/branch-recital-november-2022/
LOCATION:Gradus Ad Parnassum Music Academy
END:VEVENT
END:VCALENDAR